BEGIN:VCALENDAR
VERSION:2.0
PRODID:-//Yukon Soccer Association - ECPv6.15.20//NONSGML v1.0//EN
CALSCALE:GREGORIAN
METHOD:PUBLISH
X-ORIGINAL-URL:https://yukonsoccer.yk.ca
X-WR-CALDESC:Events for Yukon Soccer Association
REFRESH-INTERVAL;VALUE=DURATION:PT1H
X-Robots-Tag:noindex
X-PUBLISHED-TTL:PT1H
BEGIN:VTIMEZONE
TZID:America/Whitehorse
BEGIN:DAYLIGHT
TZOFFSETFROM:-0800
TZOFFSETTO:-0700
TZNAME:PDT
DTSTART:20200308T100000
END:DAYLIGHT
BEGIN:STANDARD
TZOFFSETFROM:-0700
TZOFFSETTO:-0700
TZNAME:MST
DTSTART:20201101T070000
END:STANDARD
END:VTIMEZONE
BEGIN:VEVENT
DTSTART;VALUE=DATE:20231004
DTEND;VALUE=DATE:20231010
DTSTAMP:20260418T001919
CREATED:20210327T201212Z
LAST-MODIFIED:20210327T202559Z
UID:1089-1696377600-1696895999@yukonsoccer.yk.ca
SUMMARY:2023 Toyota National Championships
DESCRIPTION:U-15 Cup Hosts: Waterloo Region\, ON.\nU-17 Cup Hosts: Moncton\, NB.\nJubilee/Challenge Trophy Hosts: Halifax\, NS.
URL:https://yukonsoccer.yk.ca/event/2023-toyota-national-championships/
END:VEVENT
BEGIN:VEVENT
DTSTART;VALUE=DATE:20230715
DTEND;VALUE=DATE:20230724
DTSTAMP:20260418T001919
CREATED:20210820T012939Z
LAST-MODIFIED:20210820T012939Z
UID:2776-1689379200-1690156799@yukonsoccer.yk.ca
SUMMARY:2023 North American Indigenous Games
DESCRIPTION:
URL:https://yukonsoccer.yk.ca/event/2023-north-american-indigenous-games/
END:VEVENT
BEGIN:VEVENT
DTSTART;VALUE=DATE:20230303
DTEND;VALUE=DATE:20230306
DTSTAMP:20260418T001919
CREATED:20221122T202412Z
LAST-MODIFIED:20221122T202412Z
UID:7693-1677801600-1678060799@yukonsoccer.yk.ca
SUMMARY:2023 NorthwesTel Indoor Soccer Tournament
DESCRIPTION:
URL:https://yukonsoccer.yk.ca/event/2023-northwestel-indoor-soccer-tournament/
END:VEVENT
BEGIN:VEVENT
DTSTART;VALUE=DATE:20230129
DTEND;VALUE=DATE:20230205
DTSTAMP:20260418T001919
CREATED:20210407T003308Z
LAST-MODIFIED:20210407T003308Z
UID:1792-1674950400-1675555199@yukonsoccer.yk.ca
SUMMARY:2023 Wood Buffalo Arctic Winter Games
DESCRIPTION:
URL:https://yukonsoccer.yk.ca/event/2023-wood-buffalo-arctic-winter-games/
END:VEVENT
BEGIN:VEVENT
DTSTART;VALUE=DATE:20230121
DTEND;VALUE=DATE:20230122
DTSTAMP:20260418T001919
CREATED:20221122T204554Z
LAST-MODIFIED:20221122T211752Z
UID:7706-1674259200-1674345599@yukonsoccer.yk.ca
SUMMARY:2023 Adult District Level Futsal Referee Course - practical session
DESCRIPTION:
URL:https://yukonsoccer.yk.ca/event/2023-adult-futsal-district-level-referee-course-practical-session/
END:VEVENT
BEGIN:VEVENT
DTSTART;VALUE=DATE:20221126
DTEND;VALUE=DATE:20221128
DTSTAMP:20260418T001919
CREATED:20221122T202318Z
LAST-MODIFIED:20221122T202318Z
UID:7691-1669420800-1669593599@yukonsoccer.yk.ca
SUMMARY:2022 Toonie Tournament\, Whitehorse United FC
DESCRIPTION:
URL:https://yukonsoccer.yk.ca/event/2022-toonie-tournament-whitehorse-united-fc/
END:VEVENT
BEGIN:VEVENT
DTSTART;VALUE=DATE:20221029
DTEND;VALUE=DATE:20221030
DTSTAMP:20260418T001919
CREATED:20221122T204104Z
LAST-MODIFIED:20221122T204238Z
UID:7703-1667001600-1667087999@yukonsoccer.yk.ca
SUMMARY:2022 Learn to Train - coach practical session
DESCRIPTION:
URL:https://yukonsoccer.yk.ca/event/learn-to-train-coach-practical-session/
END:VEVENT
BEGIN:VEVENT
DTSTART;VALUE=DATE:20221023
DTEND;VALUE=DATE:20221025
DTSTAMP:20260418T001919
CREATED:20221122T205455Z
LAST-MODIFIED:20221122T205455Z
UID:7713-1666483200-1666655999@yukonsoccer.yk.ca
SUMMARY:AWG Futsal Trials
DESCRIPTION:
URL:https://yukonsoccer.yk.ca/event/awg-futsal-trials/
END:VEVENT
BEGIN:VEVENT
DTSTART;VALUE=DATE:20221005
DTEND;VALUE=DATE:20221011
DTSTAMP:20260418T001919
CREATED:20210327T201009Z
LAST-MODIFIED:20210327T202632Z
UID:1087-1664928000-1665446399@yukonsoccer.yk.ca
SUMMARY:2022 Toyota National Championships
DESCRIPTION:U-15 Cup Hosts: Charlottetown\, PE.\nU-17 Cup Hosts: Surrey\, BC.\nJubilee/Challenge Trophy Hosts: Vaughan\, ON.
URL:https://yukonsoccer.yk.ca/event/2022-toyota-national-championships/
END:VEVENT
BEGIN:VEVENT
DTSTART;VALUE=DATE:20220909
DTEND;VALUE=DATE:20220910
DTSTAMP:20260418T001919
CREATED:20221122T202100Z
LAST-MODIFIED:20221122T205905Z
UID:7686-1662681600-1662767999@yukonsoccer.yk.ca
SUMMARY:2022 School Soccerfest\, YSAA
DESCRIPTION:
URL:https://yukonsoccer.yk.ca/event/yukon-school-soccerfest-2022-ysaa/
END:VEVENT
BEGIN:VEVENT
DTSTART;VALUE=DATE:20220903
DTEND;VALUE=DATE:20220906
DTSTAMP:20260418T001919
CREATED:20221122T205145Z
LAST-MODIFIED:20221122T205145Z
UID:7711-1662163200-1662422399@yukonsoccer.yk.ca
SUMMARY:WUFC teams travel to SX Cup
DESCRIPTION:
URL:https://yukonsoccer.yk.ca/event/wufc-teams-travel-to-sx-cup-3/
END:VEVENT
BEGIN:VEVENT
DTSTART;VALUE=DATE:20220901
DTEND;VALUE=DATE:20220902
DTSTAMP:20260418T001919
CREATED:20220815T181654Z
LAST-MODIFIED:20221122T205759Z
UID:7598-1661990400-1662076799@yukonsoccer.yk.ca
SUMMARY:2022 High School Soccer Tournament\, YSAA
DESCRIPTION:
URL:https://yukonsoccer.yk.ca/event/yukon-soccer-school-tournament/
END:VEVENT
BEGIN:VEVENT
DTSTART;VALUE=DATE:20220827
DTEND;VALUE=DATE:20220828
DTSTAMP:20260418T001919
CREATED:20221122T204905Z
LAST-MODIFIED:20221122T204905Z
UID:7708-1661558400-1661644799@yukonsoccer.yk.ca
SUMMARY:2022 Youth Soccer Referee Course
DESCRIPTION:
URL:https://yukonsoccer.yk.ca/event/2022-youth-soccer-referee-course/
END:VEVENT
BEGIN:VEVENT
DTSTART;VALUE=DATE:20220806
DTEND;VALUE=DATE:20220822
DTSTAMP:20260418T001919
CREATED:20210327T170844Z
LAST-MODIFIED:20221122T205551Z
UID:1074-1659744000-1661126399@yukonsoccer.yk.ca
SUMMARY:2022 Canada Summer Games\, Niagara Region
DESCRIPTION:
URL:https://yukonsoccer.yk.ca/event/canada-summer-games/
END:VEVENT
BEGIN:VEVENT
DTSTART;VALUE=DATE:20220624
DTEND;VALUE=DATE:20220627
DTSTAMP:20260418T001919
CREATED:20211025T184445Z
LAST-MODIFIED:20220505T230220Z
UID:6477-1656028800-1656287999@yukonsoccer.yk.ca
SUMMARY:2022 (Sponsor here!) Yukon Soccer Championships
DESCRIPTION:
URL:https://yukonsoccer.yk.ca/event/2022-sponsor-here-outdoor-championships/
END:VEVENT
BEGIN:VEVENT
DTSTART;VALUE=DATE:20220506
DTEND;VALUE=DATE:20220509
DTSTAMP:20260418T001919
CREATED:20221122T203059Z
LAST-MODIFIED:20221122T203059Z
UID:7701-1651795200-1652054399@yukonsoccer.yk.ca
SUMMARY:2022 Special Olympics Yukon Soccer Tournament
DESCRIPTION:
URL:https://yukonsoccer.yk.ca/event/2022-special-olympics-yukon-soccer-tournament/
END:VEVENT
BEGIN:VEVENT
DTSTART;VALUE=DATE:20220506
DTEND;VALUE=DATE:20220509
DTSTAMP:20260418T001919
CREATED:20211203T005422Z
LAST-MODIFIED:20211203T005422Z
UID:6509-1651795200-1652054399@yukonsoccer.yk.ca
SUMMARY:CSG Competition Weekend and Showcase in Saskatoon
DESCRIPTION:
URL:https://yukonsoccer.yk.ca/event/csg-competition-weekend-and-showcase-in-saskatoon/
END:VEVENT
BEGIN:VEVENT
DTSTART;VALUE=DATE:20220415
DTEND;VALUE=DATE:20220418
DTSTAMP:20260418T001919
CREATED:20221122T202802Z
LAST-MODIFIED:20221122T202802Z
UID:7697-1649980800-1650239999@yukonsoccer.yk.ca
SUMMARY:WUFC teams travel to SX Cup
DESCRIPTION:
URL:https://yukonsoccer.yk.ca/event/wufc-teams-travel-to-sx-cup-2/
END:VEVENT
BEGIN:VEVENT
DTSTART;VALUE=DATE:20220413
DTEND;VALUE=DATE:20220419
DTSTAMP:20260418T001919
CREATED:20221122T202954Z
LAST-MODIFIED:20221122T202954Z
UID:7699-1649808000-1650326399@yukonsoccer.yk.ca
SUMMARY:2022 Canadian Futsal Championships\, Gatineau
DESCRIPTION:
URL:https://yukonsoccer.yk.ca/event/2022-canadian-futsal-championships-gatineau/
END:VEVENT
BEGIN:VEVENT
DTSTART;VALUE=DATE:20220304
DTEND;VALUE=DATE:20220307
DTSTAMP:20260418T001919
CREATED:20210820T012440Z
LAST-MODIFIED:20210820T012440Z
UID:2770-1646352000-1646611199@yukonsoccer.yk.ca
SUMMARY:2022 NorthwesTel Indoor Soccer Championships
DESCRIPTION:
URL:https://yukonsoccer.yk.ca/event/2022-northwestel-indoor-soccer-championships/
END:VEVENT
BEGIN:VEVENT
DTSTART;VALUE=DATE:20220304
DTEND;VALUE=DATE:20220307
DTSTAMP:20260418T001919
CREATED:20210327T165915Z
LAST-MODIFIED:20210820T012154Z
UID:1069-1646352000-1646611199@yukonsoccer.yk.ca
SUMMARY:2022 Northern Canada College ID Camp
DESCRIPTION:
URL:https://yukonsoccer.yk.ca/event/northern-canada-college-id-camp/
END:VEVENT
BEGIN:VEVENT
DTSTART;VALUE=DATE:20211218
DTEND;VALUE=DATE:20211222
DTSTAMP:20260418T001919
CREATED:20210825T213916Z
LAST-MODIFIED:20211201T221317Z
UID:2782-1639785600-1640131199@yukonsoccer.yk.ca
SUMMARY:Yukon CSG Team Camps
DESCRIPTION:
URL:https://yukonsoccer.yk.ca/event/csg-boys-camp/
END:VEVENT
BEGIN:VEVENT
DTSTART;VALUE=DATE:20211126
DTEND;VALUE=DATE:20211129
DTSTAMP:20260418T001919
CREATED:20210924T002231Z
LAST-MODIFIED:20221122T202609Z
UID:2788-1637884800-1638143999@yukonsoccer.yk.ca
SUMMARY:2021 Toonie Tournament\, Whitehorse United FC
DESCRIPTION:
URL:https://yukonsoccer.yk.ca/event/wufc-toonie-tournament/
END:VEVENT
BEGIN:VEVENT
DTSTART;VALUE=DATE:20211105
DTEND;VALUE=DATE:20211108
DTSTAMP:20260418T001919
CREATED:20211025T185118Z
LAST-MODIFIED:20211025T185118Z
UID:6481-1636070400-1636329599@yukonsoccer.yk.ca
SUMMARY:Yukon CSG Girls Camp
DESCRIPTION:
URL:https://yukonsoccer.yk.ca/event/yukon-csg-girls-camp/
END:VEVENT
BEGIN:VEVENT
DTSTART;VALUE=DATE:20211002
DTEND;VALUE=DATE:20211003
DTSTAMP:20260418T001919
CREATED:20210820T013218Z
LAST-MODIFIED:20210820T013218Z
UID:2780-1633132800-1633219199@yukonsoccer.yk.ca
SUMMARY:Learn to Train - Coach Field Session
DESCRIPTION:
URL:https://yukonsoccer.yk.ca/event/learn-to-train-coach-field-session/
END:VEVENT
BEGIN:VEVENT
DTSTART;VALUE=DATE:20210924
DTEND;VALUE=DATE:20210927
DTSTAMP:20260418T001919
CREATED:20210519T234809Z
LAST-MODIFIED:20211025T185306Z
UID:2179-1632441600-1632700799@yukonsoccer.yk.ca
SUMMARY:Yukon CSG Girls Camp
DESCRIPTION:
URL:https://yukonsoccer.yk.ca/event/whitecaps-camp-tse-2/
END:VEVENT
BEGIN:VEVENT
DTSTART;VALUE=DATE:20210917
DTEND;VALUE=DATE:20210920
DTSTAMP:20260418T001919
CREATED:20210820T012541Z
LAST-MODIFIED:20210820T013102Z
UID:2772-1631836800-1632095999@yukonsoccer.yk.ca
SUMMARY:2021 Rapids Fall Coed Tournament
DESCRIPTION:
URL:https://yukonsoccer.yk.ca/event/2021-rapids-fall-co-ed-tournament/
END:VEVENT
BEGIN:VEVENT
DTSTART;VALUE=DATE:20210904
DTEND;VALUE=DATE:20210907
DTSTAMP:20260418T001919
CREATED:20210820T012252Z
LAST-MODIFIED:20210820T012252Z
UID:2768-1630713600-1630972799@yukonsoccer.yk.ca
SUMMARY:WUFC teams travel to SX Cup
DESCRIPTION:
URL:https://yukonsoccer.yk.ca/event/wufc-teams-travel-to-sx-cup/
END:VEVENT
BEGIN:VEVENT
DTSTART;VALUE=DATE:20210806
DTEND;VALUE=DATE:20210809
DTSTAMP:20260418T001919
CREATED:20210820T012710Z
LAST-MODIFIED:20210820T012710Z
UID:2774-1628208000-1628467199@yukonsoccer.yk.ca
SUMMARY:Yukon and Northwest Territories Tournament in Whitehorse
DESCRIPTION:
URL:https://yukonsoccer.yk.ca/event/yukon-and-northwest-territories-tournament-in-whitehorse/
END:VEVENT
BEGIN:VEVENT
DTSTART;VALUE=DATE:20210802
DTEND;VALUE=DATE:20210807
DTSTAMP:20260418T001919
CREATED:20210519T235027Z
LAST-MODIFIED:20210519T235027Z
UID:2183-1627862400-1628294399@yukonsoccer.yk.ca
SUMMARY:Youth Soccer Camp (WUFC)
DESCRIPTION:
URL:https://yukonsoccer.yk.ca/event/youth-soccer-camp-wufc-2/
END:VEVENT
END:VCALENDAR