BEGIN:VCALENDAR
VERSION:2.0
PRODID:-//Yukon Soccer Association - ECPv6.15.20//NONSGML v1.0//EN
CALSCALE:GREGORIAN
METHOD:PUBLISH
X-ORIGINAL-URL:https://yukonsoccer.yk.ca
X-WR-CALDESC:Events for Yukon Soccer Association
REFRESH-INTERVAL;VALUE=DURATION:PT1H
X-Robots-Tag:noindex
X-PUBLISHED-TTL:PT1H
BEGIN:VTIMEZONE
TZID:America/Whitehorse
BEGIN:DAYLIGHT
TZOFFSETFROM:-0800
TZOFFSETTO:-0700
TZNAME:PDT
DTSTART:20190310T100000
END:DAYLIGHT
BEGIN:STANDARD
TZOFFSETFROM:-0700
TZOFFSETTO:-0800
TZNAME:PST
DTSTART:20191103T090000
END:STANDARD
BEGIN:DAYLIGHT
TZOFFSETFROM:-0800
TZOFFSETTO:-0700
TZNAME:PDT
DTSTART:20200308T100000
END:DAYLIGHT
BEGIN:STANDARD
TZOFFSETFROM:-0700
TZOFFSETTO:-0700
TZNAME:MST
DTSTART:20201101T070000
END:STANDARD
END:VTIMEZONE
BEGIN:VEVENT
DTSTART;VALUE=DATE:20211002
DTEND;VALUE=DATE:20211003
DTSTAMP:20260420T010724
CREATED:20210820T013218Z
LAST-MODIFIED:20210820T013218Z
UID:2780-1633132800-1633219199@yukonsoccer.yk.ca
SUMMARY:Learn to Train - Coach Field Session
DESCRIPTION:
URL:https://yukonsoccer.yk.ca/event/learn-to-train-coach-field-session/
END:VEVENT
BEGIN:VEVENT
DTSTART;VALUE=DATE:20210924
DTEND;VALUE=DATE:20210927
DTSTAMP:20260420T010724
CREATED:20210519T234809Z
LAST-MODIFIED:20211025T185306Z
UID:2179-1632441600-1632700799@yukonsoccer.yk.ca
SUMMARY:Yukon CSG Girls Camp
DESCRIPTION:
URL:https://yukonsoccer.yk.ca/event/whitecaps-camp-tse-2/
END:VEVENT
BEGIN:VEVENT
DTSTART;VALUE=DATE:20210917
DTEND;VALUE=DATE:20210920
DTSTAMP:20260420T010724
CREATED:20210820T012541Z
LAST-MODIFIED:20210820T013102Z
UID:2772-1631836800-1632095999@yukonsoccer.yk.ca
SUMMARY:2021 Rapids Fall Coed Tournament
DESCRIPTION:
URL:https://yukonsoccer.yk.ca/event/2021-rapids-fall-co-ed-tournament/
END:VEVENT
BEGIN:VEVENT
DTSTART;VALUE=DATE:20210904
DTEND;VALUE=DATE:20210907
DTSTAMP:20260420T010724
CREATED:20210820T012252Z
LAST-MODIFIED:20210820T012252Z
UID:2768-1630713600-1630972799@yukonsoccer.yk.ca
SUMMARY:WUFC teams travel to SX Cup
DESCRIPTION:
URL:https://yukonsoccer.yk.ca/event/wufc-teams-travel-to-sx-cup/
END:VEVENT
BEGIN:VEVENT
DTSTART;VALUE=DATE:20210806
DTEND;VALUE=DATE:20210809
DTSTAMP:20260420T010724
CREATED:20210820T012710Z
LAST-MODIFIED:20210820T012710Z
UID:2774-1628208000-1628467199@yukonsoccer.yk.ca
SUMMARY:Yukon and Northwest Territories Tournament in Whitehorse
DESCRIPTION:
URL:https://yukonsoccer.yk.ca/event/yukon-and-northwest-territories-tournament-in-whitehorse/
END:VEVENT
BEGIN:VEVENT
DTSTART;VALUE=DATE:20210802
DTEND;VALUE=DATE:20210807
DTSTAMP:20260420T010724
CREATED:20210519T235027Z
LAST-MODIFIED:20210519T235027Z
UID:2183-1627862400-1628294399@yukonsoccer.yk.ca
SUMMARY:Youth Soccer Camp (WUFC)
DESCRIPTION:
URL:https://yukonsoccer.yk.ca/event/youth-soccer-camp-wufc-2/
END:VEVENT
BEGIN:VEVENT
DTSTART;VALUE=DATE:20210712
DTEND;VALUE=DATE:20210724
DTSTAMP:20260420T010724
CREATED:20210519T234947Z
LAST-MODIFIED:20210519T234947Z
UID:2181-1626048000-1627084799@yukonsoccer.yk.ca
SUMMARY:Youth Soccer Camp (WUFC)
DESCRIPTION:
URL:https://yukonsoccer.yk.ca/event/youth-soccer-camp-wufc/
END:VEVENT
BEGIN:VEVENT
DTSTART;VALUE=DATE:20210702
DTEND;VALUE=DATE:20210704
DTSTAMP:20260420T010724
CREATED:20210519T235250Z
LAST-MODIFIED:20210521T152411Z
UID:2185-1625184000-1625356799@yukonsoccer.yk.ca
SUMMARY:Dawson City Youth Jamboree
DESCRIPTION:
URL:https://yukonsoccer.yk.ca/event/dawson-city-jamboree/
END:VEVENT
BEGIN:VEVENT
DTSTART;VALUE=DATE:20210611
DTEND;VALUE=DATE:20210614
DTSTAMP:20260420T010724
CREATED:20210327T162514Z
LAST-MODIFIED:20210327T171427Z
UID:1061-1623369600-1623628799@yukonsoccer.yk.ca
SUMMARY:2021 Yukon Soccer Championships
DESCRIPTION:
URL:https://yukonsoccer.yk.ca/event/yukon-soccer-championships/
END:VEVENT
BEGIN:VEVENT
DTSTART;TZID=America/Whitehorse:20210608T180000
DTEND;TZID=America/Whitehorse:20210608T200000
DTSTAMP:20260420T010724
CREATED:20210521T152042Z
LAST-MODIFIED:20210521T152042Z
UID:2189-1623175200-1623182400@yukonsoccer.yk.ca
SUMMARY:District Referee Field Session
DESCRIPTION:
URL:https://yukonsoccer.yk.ca/event/district-referee-field-session/
END:VEVENT
BEGIN:VEVENT
DTSTART;VALUE=DATE:20210529
DTEND;VALUE=DATE:20210531
DTSTAMP:20260420T010724
CREATED:20210501T171906Z
LAST-MODIFIED:20210524T003322Z
UID:1804-1622246400-1622419199@yukonsoccer.yk.ca
SUMMARY:2021 Haines Junction FC Soccer Festival
DESCRIPTION:
URL:https://yukonsoccer.yk.ca/event/2021-haines-junction-fc-soccer-festival/
END:VEVENT
BEGIN:VEVENT
DTSTART;TZID=America/Whitehorse:20210515T083000
DTEND;TZID=America/Whitehorse:20210515T143000
DTSTAMP:20260420T010724
CREATED:20210524T005710Z
LAST-MODIFIED:20210524T005710Z
UID:2522-1621067400-1621089000@yukonsoccer.yk.ca
SUMMARY:District Referee Classroom Session
DESCRIPTION:
URL:https://yukonsoccer.yk.ca/event/district-referee-classroom-session/
END:VEVENT
BEGIN:VEVENT
DTSTART;TZID=America/Whitehorse:20210508T090000
DTEND;TZID=America/Whitehorse:20210508T150000
DTSTAMP:20260420T010724
CREATED:20210524T005317Z
LAST-MODIFIED:20210524T005545Z
UID:2519-1620464400-1620486000@yukonsoccer.yk.ca
SUMMARY:Learn to Train - Coach Field Session
DESCRIPTION:
URL:https://yukonsoccer.yk.ca/event/canada-soccer-learn-to-train-coach-field-session/
END:VEVENT
BEGIN:VEVENT
DTSTART;VALUE=DATE:20210430
DTEND;VALUE=DATE:20210503
DTSTAMP:20260420T010724
CREATED:20210501T173040Z
LAST-MODIFIED:20210501T173040Z
UID:1806-1619740800-1619999999@yukonsoccer.yk.ca
SUMMARY:2021 Dawson City FC Indoor Jamboree
DESCRIPTION:
URL:https://yukonsoccer.yk.ca/event/2021-dawson-city-fc-indoor-jamboree/
END:VEVENT
BEGIN:VEVENT
DTSTART;VALUE=DATE:20210409
DTEND;VALUE=DATE:20210411
DTSTAMP:20260420T010724
CREATED:20210327T162739Z
LAST-MODIFIED:20210327T171449Z
UID:1063-1617926400-1618099199@yukonsoccer.yk.ca
SUMMARY:2021 Rapids Spring Coed Tournament
DESCRIPTION:
URL:https://yukonsoccer.yk.ca/event/rapids-spring-coed-tournament/
END:VEVENT
BEGIN:VEVENT
DTSTART;TZID=America/Whitehorse:20210305T180000
DTEND;TZID=America/Whitehorse:20210307T140000
DTSTAMP:20260420T010724
CREATED:20210209T224607Z
LAST-MODIFIED:20210209T224607Z
UID:1038-1614967200-1615125600@yukonsoccer.yk.ca
SUMMARY:2021 Northwestel Indoor Soccer Championships
DESCRIPTION:
URL:https://yukonsoccer.yk.ca/event/2021-northwestel-indoor-soccer-championships/
LOCATION:Canada Games Centre\, 200 Hamilton Blvd\, Whitehorse\, Yukon\, YT Y1A 0A6\, Canada
END:VEVENT
BEGIN:VEVENT
DTSTART;VALUE=DATE:20210305
DTEND;VALUE=DATE:20210308
DTSTAMP:20260420T010724
CREATED:20210327T172830Z
LAST-MODIFIED:20210327T172830Z
UID:1081-1614902400-1615161599@yukonsoccer.yk.ca
SUMMARY:2021 Dawson City Covid Cup
DESCRIPTION:
URL:https://yukonsoccer.yk.ca/event/2021-dawson-city-covid-cup/
END:VEVENT
BEGIN:VEVENT
DTSTART;VALUE=DATE:20210102
DTEND;VALUE=DATE:20210104
DTSTAMP:20260420T010724
CREATED:20210327T195826Z
LAST-MODIFIED:20210327T195826Z
UID:1083-1609545600-1609718399@yukonsoccer.yk.ca
SUMMARY:2021 Yukon Adult Futsal Tournament
DESCRIPTION:
URL:https://yukonsoccer.yk.ca/event/2021-yukon-adult-futsal-tournament/
END:VEVENT
BEGIN:VEVENT
DTSTART;VALUE=DATE:20201127
DTEND;VALUE=DATE:20201130
DTSTAMP:20260420T010724
CREATED:20210327T170049Z
LAST-MODIFIED:20210327T171525Z
UID:1071-1606435200-1606694399@yukonsoccer.yk.ca
SUMMARY:2020 Whitehorse United FC Toonie Tournament
DESCRIPTION:
URL:https://yukonsoccer.yk.ca/event/whitehorse-united-fc-toonie-tournament/
END:VEVENT
END:VCALENDAR